BEGIN:VCALENDAR
VERSION:2.0
PRODID:-//Florida Fastpitch - ECPv6.15.20//NONSGML v1.0//EN
CALSCALE:GREGORIAN
METHOD:PUBLISH
X-ORIGINAL-URL:https://floridafastpitch.com
X-WR-CALDESC:Events for Florida Fastpitch
REFRESH-INTERVAL;VALUE=DURATION:PT1H
X-Robots-Tag:noindex
X-PUBLISHED-TTL:PT1H
BEGIN:VTIMEZONE
TZID:America/New_York
BEGIN:DAYLIGHT
TZOFFSETFROM:-0500
TZOFFSETTO:-0400
TZNAME:EDT
DTSTART:20230312T070000
END:DAYLIGHT
BEGIN:STANDARD
TZOFFSETFROM:-0400
TZOFFSETTO:-0500
TZNAME:EST
DTSTART:20231105T060000
END:STANDARD
BEGIN:DAYLIGHT
TZOFFSETFROM:-0500
TZOFFSETTO:-0400
TZNAME:EDT
DTSTART:20240310T070000
END:DAYLIGHT
BEGIN:STANDARD
TZOFFSETFROM:-0400
TZOFFSETTO:-0500
TZNAME:EST
DTSTART:20241103T060000
END:STANDARD
BEGIN:DAYLIGHT
TZOFFSETFROM:-0500
TZOFFSETTO:-0400
TZNAME:EDT
DTSTART:20250309T070000
END:DAYLIGHT
BEGIN:STANDARD
TZOFFSETFROM:-0400
TZOFFSETTO:-0500
TZNAME:EST
DTSTART:20251102T060000
END:STANDARD
END:VTIMEZONE
BEGIN:VEVENT
DTSTART;VALUE=DATE:20241108
DTEND;VALUE=DATE:20241111
DTSTAMP:20260421T091105
CREATED:20240829T111649Z
LAST-MODIFIED:20240829T111735Z
UID:5874-1731024000-1731283199@floridafastpitch.com
SUMMARY:10th Annual Xtreme Dimension Veterans Day Showcase
DESCRIPTION:  \n\n\n\n\n\n\n\n\n\nWho: 16U & 18U Teams\nTime: 9:00am\nCost:\n$1\,300 | 16U/18U\n+$100 per each additional game\nUmpire fees included \nLocations: \nNew Tampa Community Park – 17302 Commerce Park Blvd. Tampa\, FL 33647\nGreco Softball Complex – 11000 N 50th St.\, Tampa\, FL 33617 \nDetails: \n\n5 Games Guarantee / 2 Fields\n2 umpires per game\n\nRefund Policy: Click here for Refund Policy \nHotel Info: Click Here \nPencil in Option: \nPayable: Xtreme Dimensions Inc\nMail to: Rick Waye\n151 Lark Drive\nHolland\, PA 18966 \n\n\nContact: Rick Waye\, 151 Lark Dr. Holland\, PA 18966 reggie044@aol.com/732-740-3487
URL:https://floridafastpitch.com/event/xtreme-dimension-veterans-day-showcase/
LOCATION:New Tampa Recreational Center\, 17302 Commerce Park Blvd\, Tampa\, Florida\, 33647
CATEGORIES:Tournaments
ATTACH;FMTTYPE=image/png:https://floridafastpitch.com/wp-content/uploads/2024/08/Xtreme.png
ORGANIZER;CN="Rick Wayne":MAILTO:reggie044@aol.com
END:VEVENT
BEGIN:VEVENT
DTSTART;VALUE=DATE:20241102
DTEND;VALUE=DATE:20241104
DTSTAMP:20260421T091105
CREATED:20240718T171843Z
LAST-MODIFIED:20240829T104303Z
UID:5524-1730505600-1730678399@floridafastpitch.com
SUMMARY:Florida Fall Show Me The Money 2024
DESCRIPTION:Do not miss out on the 2024 PGF Florida Fall Show Me The Money event being held at Champions Park Newberry Nov 2-3rd\, 2024 \nThis will be better than ever with over $40k in cash and prizes for our top finishers in each age group. \nThis will be open to 14u\, 16u and 18u age groups. \nThe format will be 3 pool into a single elimination bracket. \nEntry fee is $1795 and there are no Gate Fees. \nHousing links wil be posted shortly. \nWe look forward to hosting you!
URL:https://floridafastpitch.com/event/florida-fall-show-me-the-money/
LOCATION:Newberry Champions Park\, 24309 sw 30th Ave\, Newberry\, Florida\, 32669
CATEGORIES:Tournaments
ATTACH;FMTTYPE=image/png:https://floridafastpitch.com/wp-content/uploads/2019/07/PGF.png
ORGANIZER;CN="PGF Florida":MAILTO:akhoopes@gmail.com
END:VEVENT
BEGIN:VEVENT
DTSTART;VALUE=DATE:20241026
DTEND;VALUE=DATE:20241028
DTSTAMP:20260421T091105
CREATED:20240718T185606Z
LAST-MODIFIED:20240719T152911Z
UID:5635-1729900800-1730073599@floridafastpitch.com
SUMMARY:GHOULS JUST WANNA HAVE FUN 2/1 90 MINUTE GAMES
DESCRIPTION:
URL:https://floridafastpitch.com/event/ghouls-just-wanna-have-fun-2-1-90-minute-games/
LOCATION:Pembroke Pines\, Pembroke Pines\, Florida
CATEGORIES:Tournaments
ATTACH;FMTTYPE=image/png:https://floridafastpitch.com/wp-content/uploads/2019/07/USSSA.png
ORGANIZER;CN="Chris Kroon":MAILTO:Chris.Kroon@usssa.com
END:VEVENT
BEGIN:VEVENT
DTSTART;VALUE=DATE:20241026
DTEND;VALUE=DATE:20241028
DTSTAMP:20260421T091105
CREATED:20240718T185116Z
LAST-MODIFIED:20240719T153005Z
UID:5630-1729900800-1730073599@floridafastpitch.com
SUMMARY:MONSTER SMASH (B ONLY)
DESCRIPTION:
URL:https://floridafastpitch.com/event/monster-smash-b-only/
LOCATION:Odessa
CATEGORIES:Tournaments
ATTACH;FMTTYPE=image/png:https://floridafastpitch.com/wp-content/uploads/2019/07/USSSA.png
END:VEVENT
BEGIN:VEVENT
DTSTART;VALUE=DATE:20241026
DTEND;VALUE=DATE:20241028
DTSTAMP:20260421T091105
CREATED:20240718T184934Z
LAST-MODIFIED:20240719T153047Z
UID:5628-1729900800-1730073599@floridafastpitch.com
SUMMARY:MONSTER SMASH
DESCRIPTION:
URL:https://floridafastpitch.com/event/monster-smash/
LOCATION:Bradenton\, Florida
CATEGORIES:Tournaments
ATTACH;FMTTYPE=image/png:https://floridafastpitch.com/wp-content/uploads/2019/07/USSSA.png
END:VEVENT
BEGIN:VEVENT
DTSTART;VALUE=DATE:20241026
DTEND;VALUE=DATE:20241028
DTSTAMP:20260421T091105
CREATED:20240718T184735Z
LAST-MODIFIED:20240719T153432Z
UID:5626-1729900800-1730073599@floridafastpitch.com
SUMMARY:CF GHOULS JUST WANNA HAVE FUN! (CLERMONT)
DESCRIPTION:
URL:https://floridafastpitch.com/event/cf-ghouls-just-wanna-have-fun-clermont/
LOCATION:Clermont\, FL\, 2350 Legends Way\, Clermont\, FL 34711\, Clermont\, FL\, United States
CATEGORIES:Tournaments
ATTACH;FMTTYPE=image/png:https://floridafastpitch.com/wp-content/uploads/2019/07/USSSA.png
ORGANIZER;CN="Tonya Waters":MAILTO:tonya.waters@usssa.com
END:VEVENT
BEGIN:VEVENT
DTSTART;VALUE=DATE:20241026
DTEND;VALUE=DATE:20241028
DTSTAMP:20260421T091105
CREATED:20240718T184413Z
LAST-MODIFIED:20240719T153456Z
UID:5624-1729900800-1730073599@floridafastpitch.com
SUMMARY:SPOOKFEST B MINOR (NO GATE FEE)
DESCRIPTION:
URL:https://floridafastpitch.com/event/spookfest-b-minor-no-gate-fee/
LOCATION:Jacksonville\, Florida
CATEGORIES:Tournaments
ATTACH;FMTTYPE=image/png:https://floridafastpitch.com/wp-content/uploads/2019/07/USSSA.png
ORGANIZER;CN="Joe Wilson":MAILTO:joe.wilson@usssa.com
END:VEVENT
BEGIN:VEVENT
DTSTART;VALUE=DATE:20241026
DTEND;VALUE=DATE:20241028
DTSTAMP:20260421T091105
CREATED:20240718T184234Z
LAST-MODIFIED:20240719T153520Z
UID:5622-1729900800-1730073599@floridafastpitch.com
SUMMARY:SPOOKFEST
DESCRIPTION:
URL:https://floridafastpitch.com/event/spookfest/
LOCATION:Jacksonville\, Florida
CATEGORIES:Tournaments
ATTACH;FMTTYPE=image/png:https://floridafastpitch.com/wp-content/uploads/2019/07/USSSA.png
ORGANIZER;CN="Joe Wilson":MAILTO:joe.wilson@usssa.com
END:VEVENT
BEGIN:VEVENT
DTSTART;VALUE=DATE:20241026
DTEND;VALUE=DATE:20241027
DTSTAMP:20260421T091105
CREATED:20240718T185300Z
LAST-MODIFIED:20240719T153542Z
UID:5633-1729900800-1729987199@floridafastpitch.com
SUMMARY:FIELD OF SCREAMS 1 DAY
DESCRIPTION:
URL:https://floridafastpitch.com/event/field-of-screams-1-day/
LOCATION:Pace\, Pace\, Florida\, 32571
CATEGORIES:Tournaments
ATTACH;FMTTYPE=image/png:https://floridafastpitch.com/wp-content/uploads/2019/07/USSSA.png
ORGANIZER;CN="Holly Fahr":MAILTO:holly.fahr@usssa.com
END:VEVENT
BEGIN:VEVENT
DTSTART;VALUE=DATE:20241025
DTEND;VALUE=DATE:20241028
DTSTAMP:20260421T091105
CREATED:20240829T105654Z
LAST-MODIFIED:20240829T105655Z
UID:5870-1729814400-1730073599@floridafastpitch.com
SUMMARY:Ray Seymour Invitational
DESCRIPTION:
URL:https://floridafastpitch.com/event/ray-seymour-invitational/
LOCATION:Newberry Champions Park\, 24309 sw 30th Ave\, Newberry\, Florida\, 32669
CATEGORIES:Tournaments
ATTACH;FMTTYPE=image/png:https://floridafastpitch.com/wp-content/uploads/2024/08/Rey-Seymour.png
ORGANIZER;CN="David Handler":MAILTO:customerservice@connectsportsevents.com
END:VEVENT
BEGIN:VEVENT
DTSTART;VALUE=DATE:20241019
DTEND;VALUE=DATE:20241021
DTSTAMP:20260421T091105
CREATED:20240829T120348Z
LAST-MODIFIED:20240829T120349Z
UID:5884-1729296000-1729468799@floridafastpitch.com
SUMMARY:Team 1 Connect Orlando
DESCRIPTION:
URL:https://floridafastpitch.com/event/team-1-connect-orlando/
LOCATION:SEMINOLE COUNTY SOFTBALL COMPLEX\, 2200 NORTH ST.\, ALT\, ALTAMONTE SPRINGS\, FL\, 32714
CATEGORIES:Tournaments
ATTACH;FMTTYPE=image/png:https://floridafastpitch.com/wp-content/uploads/2024/08/team-1-logo.png
END:VEVENT
BEGIN:VEVENT
DTSTART;VALUE=DATE:20241019
DTEND;VALUE=DATE:20241021
DTSTAMP:20260421T091105
CREATED:20240718T184016Z
LAST-MODIFIED:20240719T153604Z
UID:5619-1729296000-1729468799@floridafastpitch.com
SUMMARY:SPACE COAST POWER 50
DESCRIPTION:
URL:https://floridafastpitch.com/event/space-coast-power-50/
LOCATION:Viera\, 5800 Stadium Pkwy Melbourne\, Florida 32940\, United States
CATEGORIES:Tournaments
ATTACH;FMTTYPE=image/png:https://floridafastpitch.com/wp-content/uploads/2019/07/USSSA.png
ORGANIZER;CN="Tonya Waters":MAILTO:tonya.waters@usssa.com
END:VEVENT
BEGIN:VEVENT
DTSTART;VALUE=DATE:20241019
DTEND;VALUE=DATE:20241021
DTSTAMP:20260421T091105
CREATED:20240718T183803Z
LAST-MODIFIED:20240719T153654Z
UID:5617-1729296000-1729468799@floridafastpitch.com
SUMMARY:LAKE LYTAL TERROR IN TOYLAND (TOY DRIVE) 3/1
DESCRIPTION:
URL:https://floridafastpitch.com/event/lake-lytal-terror-in-toyland-toy-drive-3-1/
LOCATION:Lake Lytal Park\, 3645 Gun Club Road\, West Palm Beach\, Florida\, 33406
CATEGORIES:Tournaments
ATTACH;FMTTYPE=image/png:https://floridafastpitch.com/wp-content/uploads/2019/07/USSSA.png
ORGANIZER;CN="Stephen Schiller":MAILTO:Stephen.Schiller@usssa.com
END:VEVENT
BEGIN:VEVENT
DTSTART;VALUE=DATE:20241019
DTEND;VALUE=DATE:20241021
DTSTAMP:20260421T091105
CREATED:20240718T183545Z
LAST-MODIFIED:20240719T153828Z
UID:5614-1729296000-1729468799@floridafastpitch.com
SUMMARY:EASTON GHOST SERIES (FREE GHOST BAT)
DESCRIPTION:
URL:https://floridafastpitch.com/event/easton-ghost-series-free-ghost-bat/
LOCATION:Fort Myers
CATEGORIES:Tournaments
ATTACH;FMTTYPE=image/png:https://floridafastpitch.com/wp-content/uploads/2019/07/USSSA.png
END:VEVENT
BEGIN:VEVENT
DTSTART;VALUE=DATE:20241019
DTEND;VALUE=DATE:20241021
DTSTAMP:20260421T091105
CREATED:20240718T183329Z
LAST-MODIFIED:20240719T153853Z
UID:5612-1729296000-1729468799@floridafastpitch.com
SUMMARY:CF P!NKTOBERFEST (CLERMONT)
DESCRIPTION:
URL:https://floridafastpitch.com/event/cf-pnktoberfest-clermont/
LOCATION:Clermont\, FL\, 2350 Legends Way\, Clermont\, FL 34711\, Clermont\, FL\, United States
ATTACH;FMTTYPE=image/png:https://floridafastpitch.com/wp-content/uploads/2019/07/USSSA.png
ORGANIZER;CN="Tonya Waters":MAILTO:tonya.waters@usssa.com
END:VEVENT
BEGIN:VEVENT
DTSTART;VALUE=DATE:20241019
DTEND;VALUE=DATE:20241021
DTSTAMP:20260421T091105
CREATED:20240718T182506Z
LAST-MODIFIED:20240719T153916Z
UID:5602-1729296000-1729468799@floridafastpitch.com
SUMMARY:SHE BELIEVED SHE COULD SO SHE DID! (NO GATE FEE)
DESCRIPTION:
URL:https://floridafastpitch.com/event/she-believed-she-could-so-she-did-no-gate-fee/
LOCATION:Lake City\, Lake City\, FL\, United States
CATEGORIES:Tournaments
ATTACH;FMTTYPE=image/png:https://floridafastpitch.com/wp-content/uploads/2019/07/USSSA.png
ORGANIZER;CN="Joe Wilson":MAILTO:joe.wilson@usssa.com
END:VEVENT
BEGIN:VEVENT
DTSTART;VALUE=DATE:20241019
DTEND;VALUE=DATE:20241020
DTSTAMP:20260421T091105
CREATED:20240718T182934Z
LAST-MODIFIED:20240719T153944Z
UID:5609-1729296000-1729382399@floridafastpitch.com
SUMMARY:CF HALLOWEEN FRENZY (VIERA)
DESCRIPTION:
URL:https://floridafastpitch.com/event/cf-halloween-frenzy-viera/
LOCATION:Viera\, 5800 Stadium Pkwy Melbourne\, Florida 32940\, United States
CATEGORIES:Tournaments
ATTACH;FMTTYPE=image/png:https://floridafastpitch.com/wp-content/uploads/2019/07/USSSA.png
ORGANIZER;CN="Tonya Waters":MAILTO:tonya.waters@usssa.com
END:VEVENT
BEGIN:VEVENT
DTSTART;VALUE=DATE:20241019
DTEND;VALUE=DATE:20241020
DTSTAMP:20260421T091105
CREATED:20240718T182657Z
LAST-MODIFIED:20240719T154009Z
UID:5606-1729296000-1729382399@floridafastpitch.com
SUMMARY:FALL CHAMPIONSHIP-8U FREE ENTRY FEE-PAP-1 DAY-1/2
DESCRIPTION:
URL:https://floridafastpitch.com/event/fall-championship-8u-free-entry-fee-pap-1-day-1-2/
LOCATION:Milton\, Milton\, FL\, 32570\, United States
CATEGORIES:Tournaments
ATTACH;FMTTYPE=image/png:https://floridafastpitch.com/wp-content/uploads/2019/07/USSSA.png
END:VEVENT
BEGIN:VEVENT
DTSTART;VALUE=DATE:20241019
DTEND;VALUE=DATE:20241021
DTSTAMP:20260421T091105
CREATED:20240718T170908Z
LAST-MODIFIED:20240718T194242Z
UID:5522-1729296000-1729468799@floridafastpitch.com
SUMMARY:LYJ - Opening Weekend
DESCRIPTION:Welcome to The Fall opening season weekend. \nFL PGF Brings you the Ulitmate Team Weekend. \nCombine – Camp – The Road To Recruiting outline and map – 3GG Event \nFriday – Optional Combine – We will record several items for your player and the PGF Leaderboards. 4-8pm \nFriday – Optional coaches clinic – Running a solid practice – ran by college coaches. \nSaturday – Team Camp  Sessions through out the day- Scheduled. Work with College Coaches and scheduled talks for parents\, coaches and players through the Lead your Journey Program.  A full day of working\, scouting\, camping\, learning and talks\, seminars\, information and so much more. 1 game played \nSunday – 2 games played\, scouted by colleges and coached on the field by the colleges. \nThey will also have a travel coach recruiting seminar. To help anyone who needs it work with their players in the process. \nThis is a full weekend camp to maximize exposure and build relationships. We can not wait to host you.
URL:https://floridafastpitch.com/event/lyj-opening-weekend/
LOCATION:Leesburg\, FL
CATEGORIES:Camps and Clinics,Tournaments
ATTACH;FMTTYPE=image/png:https://floridafastpitch.com/wp-content/uploads/2019/07/PGF.png
ORGANIZER;CN="PGF Florida":MAILTO:akhoopes@gmail.com
END:VEVENT
BEGIN:VEVENT
DTSTART;VALUE=DATE:20241013
DTEND;VALUE=DATE:20241014
DTSTAMP:20260421T091105
CREATED:20240718T182237Z
LAST-MODIFIED:20240719T154046Z
UID:5599-1728777600-1728863999@floridafastpitch.com
SUMMARY:PBG PITCH FOR THE CURE
DESCRIPTION:
URL:https://floridafastpitch.com/event/pbg-pitch-for-the-cure/
LOCATION:Palm Beach Gardens
CATEGORIES:Tournaments
ATTACH;FMTTYPE=image/png:https://floridafastpitch.com/wp-content/uploads/2019/07/USSSA.png
ORGANIZER;CN="Gordon Patterson":MAILTO:Gordon.Patterson@usssa.com
END:VEVENT
BEGIN:VEVENT
DTSTART;VALUE=DATE:20241012
DTEND;VALUE=DATE:20241014
DTSTAMP:20260421T091105
CREATED:20240718T181657Z
LAST-MODIFIED:20240719T154105Z
UID:5595-1728691200-1728863999@floridafastpitch.com
SUMMARY:HARDER PARK BATTLE FOR THE BELTS
DESCRIPTION:
URL:https://floridafastpitch.com/event/harder-park-battle-for-the-belts/
LOCATION:Panama City\, Florida
CATEGORIES:Tournaments
ATTACH;FMTTYPE=image/png:https://floridafastpitch.com/wp-content/uploads/2019/07/USSSA.png
ORGANIZER;CN="Joe Wilson":MAILTO:joe.wilson@usssa.com
END:VEVENT
BEGIN:VEVENT
DTSTART;VALUE=DATE:20241012
DTEND;VALUE=DATE:20241014
DTSTAMP:20260421T091105
CREATED:20240718T181342Z
LAST-MODIFIED:20240719T154139Z
UID:5593-1728691200-1728863999@floridafastpitch.com
SUMMARY:SWING FOR A CURE
DESCRIPTION:
URL:https://floridafastpitch.com/event/swing-for-a-cure-2/
LOCATION:Tampa\, FL
CATEGORIES:Tournaments
ATTACH;FMTTYPE=image/png:https://floridafastpitch.com/wp-content/uploads/2019/07/USSSA.png
END:VEVENT
BEGIN:VEVENT
DTSTART;VALUE=DATE:20241012
DTEND;VALUE=DATE:20241014
DTSTAMP:20260421T091105
CREATED:20240718T181204Z
LAST-MODIFIED:20240719T154201Z
UID:5591-1728691200-1728863999@floridafastpitch.com
SUMMARY:CF (B TEAMS ONLY) DUDLEY CHAMPIONSHIP-BIG EVENT
DESCRIPTION:
URL:https://floridafastpitch.com/event/cf-b-teams-only-dudley-championship-big-event/
LOCATION:Clermont\, FL\, 2350 Legends Way\, Clermont\, FL 34711\, Clermont\, FL\, United States
CATEGORIES:Tournaments
ATTACH;FMTTYPE=image/png:https://floridafastpitch.com/wp-content/uploads/2019/07/USSSA.png
ORGANIZER;CN="Tonya Waters":MAILTO:tonya.waters@usssa.com
END:VEVENT
BEGIN:VEVENT
DTSTART;VALUE=DATE:20241012
DTEND;VALUE=DATE:20241014
DTSTAMP:20260421T091105
CREATED:20240718T180844Z
LAST-MODIFIED:20240719T154221Z
UID:5587-1728691200-1728863999@floridafastpitch.com
SUMMARY:LAKECITY PINKOUT (NO GATE FEE)
DESCRIPTION:
URL:https://floridafastpitch.com/event/lakecity-pinkout-no-gate-fee/
LOCATION:Lake City\, Lake City\, FL\, United States
CATEGORIES:Tournaments
ATTACH;FMTTYPE=image/png:https://floridafastpitch.com/wp-content/uploads/2019/07/USSSA.png
ORGANIZER;CN="Joe Wilson":MAILTO:joe.wilson@usssa.com
END:VEVENT
BEGIN:VEVENT
DTSTART;VALUE=DATE:20241012
DTEND;VALUE=DATE:20241013
DTSTAMP:20260421T091105
CREATED:20240718T182025Z
LAST-MODIFIED:20240719T154253Z
UID:5597-1728691200-1728777599@floridafastpitch.com
SUMMARY:PINK OUT THE PARK 1 DAY
DESCRIPTION:
URL:https://floridafastpitch.com/event/pink-out-the-park-1-day/
LOCATION:Pace\, Pace\, Florida\, 32571
CATEGORIES:Tournaments
ATTACH;FMTTYPE=image/png:https://floridafastpitch.com/wp-content/uploads/2019/07/USSSA.png
ORGANIZER;CN="Holly Fahr":MAILTO:holly.fahr@usssa.com
END:VEVENT
BEGIN:VEVENT
DTSTART;VALUE=DATE:20241012
DTEND;VALUE=DATE:20241014
DTSTAMP:20260421T091105
CREATED:20240718T170652Z
LAST-MODIFIED:20240718T194347Z
UID:5520-1728691200-1728863999@floridafastpitch.com
SUMMARY:FL PGF Single-Double Weekend
DESCRIPTION:Here it is – The Single- Double – Belt Wars 5GG \nCome play a 2 Seed – Single Elimination on Saturday- Champions will be awarded. \nNow Sunday come back and play a Straight Double Elimination with one fun fact. \nChampions From Saturday will have to pass down their Championship belt if they get beat on Sunday. The belt will find it ways back to the Championship and be up for grabs. \nCome see if you can win both events in 1 weekend and carry the best until the end!!! \nWe can not wait to host you for the FL PGF Single- Double – Belt Wars!!!
URL:https://floridafastpitch.com/event/fl-pgf-single-double-weekend/
LOCATION:Newberry Champions Park\, 24309 sw 30th Ave\, Newberry\, Florida\, 32669
CATEGORIES:Tournaments
ATTACH;FMTTYPE=image/png:https://floridafastpitch.com/wp-content/uploads/2019/07/PGF.png
ORGANIZER;CN="PGF Florida":MAILTO:akhoopes@gmail.com
END:VEVENT
BEGIN:VEVENT
DTSTART;VALUE=DATE:20241005
DTEND;VALUE=DATE:20241007
DTSTAMP:20260421T091105
CREATED:20240718T180450Z
LAST-MODIFIED:20240719T154313Z
UID:5579-1728086400-1728259199@floridafastpitch.com
SUMMARY:PLANTATION THINK PINK (3/1)
DESCRIPTION:
URL:https://floridafastpitch.com/event/plantation-think-pink-3-1/
LOCATION:Plantation\, Florida
CATEGORIES:Tournaments
ATTACH;FMTTYPE=image/png:https://floridafastpitch.com/wp-content/uploads/2019/07/USSSA.png
END:VEVENT
BEGIN:VEVENT
DTSTART;VALUE=DATE:20241005
DTEND;VALUE=DATE:20241007
DTSTAMP:20260421T091105
CREATED:20240718T180138Z
LAST-MODIFIED:20240719T154334Z
UID:5576-1728086400-1728259199@floridafastpitch.com
SUMMARY:OCALA BREAKOUT
DESCRIPTION:
URL:https://floridafastpitch.com/event/ocala-breakout/
LOCATION:Lake City\, Lake City\, FL\, United States
CATEGORIES:Tournaments
ATTACH;FMTTYPE=image/png:https://floridafastpitch.com/wp-content/uploads/2019/07/USSSA.png
ORGANIZER;CN="Joe Wilson":MAILTO:joe.wilson@usssa.com
END:VEVENT
BEGIN:VEVENT
DTSTART;VALUE=DATE:20241005
DTEND;VALUE=DATE:20241007
DTSTAMP:20260421T091105
CREATED:20240718T170501Z
LAST-MODIFIED:20240718T170501Z
UID:5518-1728086400-1728259199@floridafastpitch.com
SUMMARY:FL PGF 99% Showcase
DESCRIPTION:FL PGF 99% Showcase year 7. We can not wait to host you. \nPlay a 4GG and get seen. \nFriday night prospect camp we will have 20 plus coaches on site and recruiting the weekend. \n3-1 format to keep it competitive. \nGoing to be a blast. \n8 fields 1 complex. \nWe look forward to hosting you
URL:https://floridafastpitch.com/event/fl-pgf-99-showcase-4/
LOCATION:Leesburg\, FL
CATEGORIES:Tournaments
ATTACH;FMTTYPE=image/png:https://floridafastpitch.com/wp-content/uploads/2019/07/PGF.png
ORGANIZER;CN="PGF Florida":MAILTO:akhoopes@gmail.com
END:VEVENT
BEGIN:VEVENT
DTSTART;VALUE=DATE:20241005
DTEND;VALUE=DATE:20241007
DTSTAMP:20260421T091105
CREATED:20240718T170202Z
LAST-MODIFIED:20240718T170202Z
UID:5516-1728086400-1728259199@floridafastpitch.com
SUMMARY:FL PGF Emerald 14U Fall Championship
DESCRIPTION:FL PGF Emerald Championship \nCome play in the Emerald Double – Double 14U Championship at Hancock Park.\, \nClermont. \nDouble- Double Format – Championship Rings will be awarded. We can not wait to host you
URL:https://floridafastpitch.com/event/fl-pgf-emerald-14u-fall-championship/
LOCATION:NTC Clermont\, 1935 Don Wickham Dr\, Clermont\, FL\, 34711\, United States
CATEGORIES:Tournaments
ATTACH;FMTTYPE=image/png:https://floridafastpitch.com/wp-content/uploads/2019/07/PGF.png
ORGANIZER;CN="PGF Florida":MAILTO:akhoopes@gmail.com
END:VEVENT
END:VCALENDAR